BEGIN:VCALENDAR
VERSION:2.0
PRODID:-//Experience Old Forge, NY - ECPv6.15.18//NONSGML v1.0//EN
CALSCALE:GREGORIAN
METHOD:PUBLISH
X-ORIGINAL-URL:https://www.experienceoldforge.com
X-WR-CALDESC:Events for Experience Old Forge, NY
REFRESH-INTERVAL;VALUE=DURATION:PT1H
X-Robots-Tag:noindex
X-PUBLISHED-TTL:PT1H
BEGIN:VTIMEZONE
TZID:America/New_York
BEGIN:DAYLIGHT
TZOFFSETFROM:-0500
TZOFFSETTO:-0400
TZNAME:EDT
DTSTART:20250309T070000
END:DAYLIGHT
BEGIN:STANDARD
TZOFFSETFROM:-0400
TZOFFSETTO:-0500
TZNAME:EST
DTSTART:20251102T060000
END:STANDARD
BEGIN:DAYLIGHT
TZOFFSETFROM:-0500
TZOFFSETTO:-0400
TZNAME:EDT
DTSTART:20260308T070000
END:DAYLIGHT
BEGIN:STANDARD
TZOFFSETFROM:-0400
TZOFFSETTO:-0500
TZNAME:EST
DTSTART:20261101T060000
END:STANDARD
BEGIN:DAYLIGHT
TZOFFSETFROM:-0500
TZOFFSETTO:-0400
TZNAME:EDT
DTSTART:20270314T070000
END:DAYLIGHT
BEGIN:STANDARD
TZOFFSETFROM:-0400
TZOFFSETTO:-0500
TZNAME:EST
DTSTART:20271107T060000
END:STANDARD
END:VTIMEZONE
BEGIN:VEVENT
DTSTART;TZID=America/New_York:20260516T090000
DTEND;TZID=America/New_York:20260517T160000
DTSTAMP:20260421T223558
CREATED:20170517T183806Z
LAST-MODIFIED:20260327T134550Z
UID:10000019-1778922000-1779033600@www.experienceoldforge.com
SUMMARY:Paddle & Pedal Fest
DESCRIPTION:Paddle & Pedal Fest 2026 is on!\nScheduled for the weekend of May 16th-17th \n\n\n\n\n\n\n\n\n\n\n\n\n\n\nRain or Shine \nAnnual Mountainman Outdoor Supply Co Paddlefest Weekend – the ultimate celebration of paddling\, adventure\, and community! Get ready to immerse yourself in a weekend of excitement\, exploration\, and camaraderie as we come together to honor our love for all things water-related. \nAll of their top vendors will be there on the property\, showcasing the latest technology in the kayaking and canoeing industry! In addition\, they will have large gear tent sales\, giveaways\, music\, drinks\, and food! So come join the party! Free entry\, all are welcome! \n\n\n\n\n\n\n\nSponsored by Mountainman Outdoor Supply Company. \n \n  \nBook your stay at Old Forge Camping Resort Online NOW!! OR Reservations can also be made by calling (315) 940-2267 or 1-800-CAMPING \nBook your stay at Water’s Edge Inn Online NOW!! OR Reservations can also be made by calling (315) 940-2466.
URL:https://www.experienceoldforge.com/event/paddlefest/
LOCATION:Mountainman Outdoor Supply Company\, 2855 State Route 28\, Old Forge\, NY\, 13420\, United States
CATEGORIES:Events
ATTACH;FMTTYPE=image/jpeg:https://www.experienceoldforge.com/wp-content/uploads/2026-Paddle-and-Pedal-e1774618942205.jpg
END:VEVENT
END:VCALENDAR